BEGIN:VCALENDAR
VERSION:2.0
PRODID:-//Fir State Golf Club - ECPv6.15.17.1//NONSGML v1.0//EN
CALSCALE:GREGORIAN
METHOD:PUBLISH
X-WR-CALNAME:Fir State Golf Club
X-ORIGINAL-URL:https://firstategolfclub.com
X-WR-CALDESC:Events for Fir State Golf Club
REFRESH-INTERVAL;VALUE=DURATION:PT1H
X-Robots-Tag:noindex
X-PUBLISHED-TTL:PT1H
BEGIN:VTIMEZONE
TZID:America/Los_Angeles
BEGIN:DAYLIGHT
TZOFFSETFROM:-0800
TZOFFSETTO:-0700
TZNAME:PDT
DTSTART:20240310T100000
END:DAYLIGHT
BEGIN:STANDARD
TZOFFSETFROM:-0700
TZOFFSETTO:-0800
TZNAME:PST
DTSTART:20241103T090000
END:STANDARD
BEGIN:DAYLIGHT
TZOFFSETFROM:-0800
TZOFFSETTO:-0700
TZNAME:PDT
DTSTART:20250309T100000
END:DAYLIGHT
BEGIN:STANDARD
TZOFFSETFROM:-0700
TZOFFSETTO:-0800
TZNAME:PST
DTSTART:20251102T090000
END:STANDARD
BEGIN:DAYLIGHT
TZOFFSETFROM:-0800
TZOFFSETTO:-0700
TZNAME:PDT
DTSTART:20260308T100000
END:DAYLIGHT
BEGIN:STANDARD
TZOFFSETFROM:-0700
TZOFFSETTO:-0800
TZNAME:PST
DTSTART:20261101T090000
END:STANDARD
END:VTIMEZONE
BEGIN:VEVENT
DTSTART;TZID=America/Los_Angeles:20251001T130000
DTEND;TZID=America/Los_Angeles:20251001T180000
DTSTAMP:20260419T134115
CREATED:20250623T123929Z
LAST-MODIFIED:20250927T010428Z
UID:5816-1759323600-1759341600@firstategolfclub.com
SUMMARY:Quarterhorse Club Play
DESCRIPTION:Quarterhorse Club Play\n\nAllenmore Golf Course\n6 Tee groups available \nStarting Tee Time:  1:00 pm \n\n\n\n\n\n\nPlaying Notes: \n\nSign-ups are finalized on this page on Mondays at 5:00 pm for Wednesday Quarterhorse Club Plays.  Late RSVP request for the Quarterhorse to Nate Gary\nPlayers are responsible for greens fee and cart rental at clubhouse.\nArrive 10 minutes prior to first tee time for any last-minute tee assignment adjustments.\nGroup scorer is responsible for recording and forwarding a copy of scorecard to Playing Captain for the day.\nAlternately\, you may RSVP through the GroupMe App – Black Hole Golf Group .
URL:https://firstategolfclub.com/event/club-play-14-3-copy-copy-copy-copy-copy-copy-copy-copy-2-copy-copy/
LOCATION:Allenmore Golf Course\, 2013 S Cedar St\, Tacoma\, WA\, 98405\, United States
CATEGORIES:Club Play
ATTACH;FMTTYPE=image/jpeg:https://firstategolfclub.com/wp-content/uploads/2023/02/Allenmore-Logo-e1675984043319.jpg
END:VEVENT
BEGIN:VEVENT
DTSTART;TZID=America/Los_Angeles:20251008T190000
DTEND;TZID=America/Los_Angeles:20251008T203000
DTSTAMP:20260419T134115
CREATED:20250109T204057Z
LAST-MODIFIED:20250607T011818Z
UID:4963-1759950000-1759955400@firstategolfclub.com
SUMMARY:2025 Monthly Board Meeting
DESCRIPTION:[vc_row][vc_column][/vc_column][/vc_row][vc_row][vc_column width=”2/3″][vc_column_text] \nBoard of Directors Meeting\n\nBill Wright Complex Function Room\nMonthly meeting of the FSGC Board of Directors \n*All new agenda items due 7 days in advance. \nMeeting inquiries contact Club Secretary[/vc_column_text][/vc_column][vc_column width=”1/3″][vc_column_text] \nMeeting Connection\n\nConnect via Zoom:\n[/vc_column_text][vc_btn title=”ZOOM Meeting” color=”primary” size=”lg” align=”center” i_icon_fontawesome=”fas fa-calendar-alt” button_block=”true” add_icon=”true” link=”url:https%3A%2F%2Fus06web.zoom.us%2Fj%2F7449119581%3Fpwd%3DYndYclg2Sm9EeThRcExlVXg0cDcrQT09%26omn%3D88354992596|target:_blank”][vc_column_text] \n\n\nConnect via Phone:\n[/vc_column_text][vc_btn title=”Phone Access” color=”success” size=”lg” align=”center” i_icon_fontawesome=”fas fa-phone” button_block=”true” add_icon=”true” link=”url:tel%3A%2B12532158782%2C%2C7449119581%23%2C%2C%2C%2C*496432655%23|target:_blank”][/vc_column][/vc_row]
URL:https://firstategolfclub.com/event/2025-monthly-board-meeting-copy-copy-copy-copy-copy-copy-copy-copy-copy/
LOCATION:Bill Wright Clubhouse Function Room\, 4101 Beacon Ave S\, Seattle\, WA\, 98108\, United States
CATEGORIES:Meeting
ATTACH;FMTTYPE=image/jpeg:https://firstategolfclub.com/wp-content/uploads/2022/12/Icon.jpg
END:VEVENT
BEGIN:VEVENT
DTSTART;TZID=America/Los_Angeles:20251011T100000
DTEND;TZID=America/Los_Angeles:20251011T180000
DTSTAMP:20260419T134115
CREATED:20250109T225458Z
LAST-MODIFIED:20251009T035207Z
UID:5016-1760176800-1760205600@firstategolfclub.com
SUMMARY:Bill Wright Day Annual Tournament
DESCRIPTION:[vc_row][vc_column width=”3/4″][/vc_column][vc_column width=”1/4″][vc_column_text] \nJunior Golf\n[/vc_column_text][vc_row_inner][vc_column_inner width=”1/2″][/vc_column_inner][/vc_row_inner][vc_column_text] \nRegister or Sponsor Now!\n[/vc_column_text][vc_btn title=”Golf Registration” color=”success” align=”center” i_icon_fontawesome=”far fa-hand-pointer” add_icon=”true” link=”url:https%3A%2F%2Ffirstategolfclub.com%2F2025-jr-golf-scramble-registration%2F|title:Jr%20Golf%20Registration|target:_blank”][vc_btn title=”Hole Sponsorship” color=”success” align=”center” i_icon_fontawesome=”far fa-hand-pointer” add_icon=”true” link=”url:https%3A%2F%2Ffirstategolfclub.com%2F2024-jr-golf-sponsor%2F|title:Jr%20Golf%20Sponsor|target:_blank”][/vc_column][/vc_row][vc_row][vc_column][vc_column_text] \nJr. Golf Fundraising Scramble &\nBill Wright Memorial Jr. Skills Clinic\nBILL WRIGHT GOLF COMPLEX\, SEATTLE\, WA | OCTOBER 11\, 2025\nFIELD LIMIT: 120 (MEN\, WOMEN & JUNIORS) ENTRY FEE $100/Golfer | ENTRY DEADLINE: October 10\, 2025 \n\nJunior Golf Program \nJoin Fir State GC  in support of growing the game for the next generation of golfers! Both clubs have combined their efforts to recruit\, coach\, and support interested youth\, ages 9 and older.  The Jr. Fundraising Scramble seeks to raise funds and highlight the accomplishments of our Junior golfers. \nDuring the Tournament\, we will be offering a junior golf skills clinic for interested youth;  registration is free and lunch will be provided. \nYou can support our Juniors in one of 3 ways: participate in the Scramble\, become a Tournament Hole Sponsor\, or donate directly to the Jr. Golf Program. \nField Limit \nField will be limited to the first 120 entrants. Entries will be accepted according to the time of receipt of entry and entry fee. FSGA reserves the right to modify the field limit to accommodate additional competitors. \nEntries: Form\, Fee and Closing Date \nAll players must have an entry application submitted either by: (1) on the FSGC website (firstategolfclub.com) with a credit card\, or (2) by mail with a completed paper application form and check or credit card authorization form. Entry fee of $100 must be paid by every player. Payment will be processed at the time of entry. A full refund will be issued to players who are placed on a waiting list and do not make the starting field. \nEntry applications\, along with the appropriate fee\, must be completed or received by FSGC by 4:30 p.m. on Friday\, October 10\, 2025. Late entry applications may be accepted and used to fill spots; contact Tournament Director after deadline close for waitlist inclusion. \nRefund Policy \nRefunds due to cancellation before the close of entry are subject to a $10 service charge and must be requested by October 9\, 2025. After the close of entry\, no refund will be issued except for cancellation of tournament by FSGA or closure of golf course. \nCarts \nPlayers are encouraged to ride in a golf cart. Cart fees are included in the entry fee; no refunds will be issued for walking competitors. Non-golfing spectators will be accommodated if cart space is available\, RSVP for non-golfer can be made day of competition. \n\n[/vc_column_text][vc_column_text] \nTournament Schedule\n  \n \n\nSaturday\, October 11\, 2025\n9:00 AM – 10:00 AM         Register/Check-in \n11:00 AM                          Scramble Shotgun Start \n10:30 AM                        Bill Wright Memorial Jr. Skills Clinic \n4:00 PM                           Tournament Lunch/Awards/Junior Recognition \n\n[/vc_column_text][vc_column_text] \nHole Sponsorship\nBecoming a Hole Sponsor of the Jr. Golf Fundraising Scramble is a great way to show your support of  the Jr. Golf Program.  Funds raised from all sponsorships are used to provide equipment and accessories in addition to grants for greens fees\, rentals\, participation fees\, etc. for participating youth. Hole sponsorships are available for a $125 minimum donation.  Your sponsorship includes your business logo at one hole. \n\n[/vc_column_text][vc_column_text] \nBill Wright Memorial Junior Skills Clinic\nHonoring the Fir State Golf Club legend\, the William A. “Bill” Wright Junior Skills Clinic seeks to provide an introduction to golf for interested youth age 10 and older.  The clinic will provide instruction for beginners on stance\, grip\, and swing; participants will receive guidance on driving\, chipping\, and putting.  Participants are encouraged to bring their own golfing equipment\, however\, equipment will be available for all participants. \n[/vc_column_text][/vc_column][/vc_row][vc_row content_placement=”middle”][vc_column width=”1/2″][vc_btn title=”Golf Registration” color=”success” align=”center” i_icon_fontawesome=”far fa-hand-pointer” button_block=”true” add_icon=”true” link=”url:https%3A%2F%2Ffirstategolfclub.com%2F2025-jr-golf-scramble-registration%2F|title:Jr%20Golf%20Registration|target:_blank”][/vc_column][vc_column width=”1/2″][vc_btn title=”Hole Sponsorship” color=”success” align=”center” i_icon_fontawesome=”far fa-hand-pointer” button_block=”true” add_icon=”true” link=”url:https%3A%2F%2Ffirstategolfclub.com%2F2024-jr-golf-sponsor%2F|title:Jr%20Golf%20Sponsor|target:_blank”][/vc_column][/vc_row]
URL:https://firstategolfclub.com/event/bill-wright-day-annual-tournament/
LOCATION:Bill Wright Golf Complex\, 4101 Beacon Ave S\, Seattle\, WA\, 98108\, United States
CATEGORIES:Club Play
ATTACH;FMTTYPE=image/jpeg:https://firstategolfclub.com/wp-content/uploads/2024/10/Bill-Wright-portrait2.jpg
END:VEVENT
END:VCALENDAR