BEGIN:VCALENDAR
VERSION:2.0
PRODID:-//Fir State Golf Club - ECPv6.15.17.1//NONSGML v1.0//EN
CALSCALE:GREGORIAN
METHOD:PUBLISH
X-WR-CALNAME:Fir State Golf Club
X-ORIGINAL-URL:https://firstategolfclub.com
X-WR-CALDESC:Events for Fir State Golf Club
REFRESH-INTERVAL;VALUE=DURATION:PT1H
X-Robots-Tag:noindex
X-PUBLISHED-TTL:PT1H
BEGIN:VTIMEZONE
TZID:America/Los_Angeles
BEGIN:DAYLIGHT
TZOFFSETFROM:-0800
TZOFFSETTO:-0700
TZNAME:PDT
DTSTART:20240310T100000
END:DAYLIGHT
BEGIN:STANDARD
TZOFFSETFROM:-0700
TZOFFSETTO:-0800
TZNAME:PST
DTSTART:20241103T090000
END:STANDARD
BEGIN:DAYLIGHT
TZOFFSETFROM:-0800
TZOFFSETTO:-0700
TZNAME:PDT
DTSTART:20250309T100000
END:DAYLIGHT
BEGIN:STANDARD
TZOFFSETFROM:-0700
TZOFFSETTO:-0800
TZNAME:PST
DTSTART:20251102T090000
END:STANDARD
BEGIN:DAYLIGHT
TZOFFSETFROM:-0800
TZOFFSETTO:-0700
TZNAME:PDT
DTSTART:20260308T100000
END:DAYLIGHT
BEGIN:STANDARD
TZOFFSETFROM:-0700
TZOFFSETTO:-0800
TZNAME:PST
DTSTART:20261101T090000
END:STANDARD
END:VTIMEZONE
BEGIN:VEVENT
DTSTART;TZID=America/Los_Angeles:20250505T080000
DTEND;TZID=America/Los_Angeles:20250505T180000
DTSTAMP:20260420T011918
CREATED:20250313T165052Z
LAST-MODIFIED:20250313T170024Z
UID:5331-1746432000-1746468000@firstategolfclub.com
SUMMARY:Club Play
DESCRIPTION:Club Play\n\nBellingham Country Club\n5 Tee groups available \nStarting Tee Time:  TBA \n\n\n\n\n\n\nPlaying Notes: \n\nPlay coordinated through Puget Sound Golf Association\nSign-ups are finalized on this page on Thursdays 5:00 pm for Saturday and Sunday Club Plays.  Late RSVP request for weekend play can be made to Sanders Pratt\nPlayers are responsible for greens fee and cart rental at clubhouse.\nArrive 10 minutes prior to first tee time for any last-minute tee assignment adjustments.\nGroup scorer is responsible for recording and forwarding a copy of scorecard to Playing Captain for the day.\nAlternately\, you may RSVP through SignUp Genius .
URL:https://firstategolfclub.com/event/club-play-15-3-copy-copy-copy-2/
LOCATION:Bellingham Country Club\, 3729 Meridian Street\, Bellingham\, WA\, 98225\, United States
ATTACH;FMTTYPE=image/png:https://firstategolfclub.com/wp-content/uploads/2025/03/Bellingham-CC-e1741885058285.png
ORGANIZER;CN="Hytee Golf Club":MAILTO:sp747ac@yahoo.com
END:VEVENT
BEGIN:VEVENT
DTSTART;TZID=America/Los_Angeles:20250510T100000
DTEND;TZID=America/Los_Angeles:20250510T170000
DTSTAMP:20260420T011918
CREATED:20250116T221629Z
LAST-MODIFIED:20250308T192413Z
UID:5127-1746871200-1746896400@firstategolfclub.com
SUMMARY:Club Play 12
DESCRIPTION:Club Play\n\nEagles Pride Golf Course\n5 Tee groups available \nStarting Tee Time:  10:00 am \n\n\n\n\n\n\nPlaying Notes: \n\nSign-ups are finalized on this page on Thursdays 5:00 pm for Saturday and Sunday Club Plays.  Late RSVP request for weekend play can be made to Sanders Pratt\nPlayers are responsible for greens fee and cart rental at clubhouse.\nArrive 10 minutes prior to first tee time for any last-minute tee assignment adjustments.\nGroup scorer is responsible for recording and forwarding a copy of scorecard to Playing Captain for the day.\nAlternately\, you may RSVP through SignUp Genius .
URL:https://firstategolfclub.com/event/club-play-12-3/
LOCATION:Eagles Pride Golf Course\, 1529 Mounts Rd SW\, Du Pont\, 98327\, United States
ATTACH;FMTTYPE=image/png:https://firstategolfclub.com/wp-content/uploads/2023/02/EaglesPride-e1675989499149.png
ORGANIZER;CN="Hytee Golf Club":MAILTO:sp747ac@yahoo.com
END:VEVENT
BEGIN:VEVENT
DTSTART;TZID=America/Los_Angeles:20250514T103000
DTEND;TZID=America/Los_Angeles:20250514T170000
DTSTAMP:20260420T011918
CREATED:20250224T021718Z
LAST-MODIFIED:20250308T215025Z
UID:5184-1747218600-1747242000@firstategolfclub.com
SUMMARY:Club Play 13
DESCRIPTION:Club Play\n\nWest Seattle Golf Course\n5 Tee groups available \nStarting Tee Time:  10:19 am \n\n\n\n\n\n\nPlaying Notes: \n\n\n\n\n\n\n\nPlayers are responsible for greens fee and cart rental at clubhouse.\nArrive 10 minutes prior to first tee time for any last-minute tee assignment adjustments.\nGroup scorer is responsible for recording and forwarding a copy of scorecard to Playing Captain for the day.\nAttendee list is updated automatically.
URL:https://firstategolfclub.com/event/club-play-13-3/
LOCATION:West Seattle Golf Course\, 4470 35th Ave SW\, Seattle\, WA\, 98126\, United States
ATTACH;FMTTYPE=image/png:https://firstategolfclub.com/wp-content/uploads/2023/02/Wseattle-1-e1675811940128.png
END:VEVENT
BEGIN:VEVENT
DTSTART;TZID=America/Los_Angeles:20250514T190000
DTEND;TZID=America/Los_Angeles:20250514T203000
DTSTAMP:20260420T011918
CREATED:20250109T203506Z
LAST-MODIFIED:20250109T203548Z
UID:4953-1747249200-1747254600@firstategolfclub.com
SUMMARY:2025 Monthly Board Meeting
DESCRIPTION:[vc_row][vc_column][/vc_column][/vc_row][vc_row][vc_column width=”2/3″][vc_column_text] \nBoard of Directors Meeting\n\nBill Wright Complex Function Room\nMonthly meeting of the FSGC Board of Directors \n*All new agenda items due 7 days in advance. \nMeeting inquiries contact Club Secretary[/vc_column_text][/vc_column][vc_column width=”1/3″][vc_column_text] \nMeeting Connection\n\nConnect via Zoom:\n[/vc_column_text][vc_btn title=”ZOOM Meeting” color=”primary” size=”lg” align=”center” i_icon_fontawesome=”fas fa-calendar-alt” button_block=”true” add_icon=”true” link=”url:https%3A%2F%2Fus06web.zoom.us%2Fj%2F7449119581%3Fpwd%3DYndYclg2Sm9EeThRcExlVXg0cDcrQT09%26omn%3D88354992596|target:_blank”][vc_column_text] \n\n\nConnect via Phone:\n[/vc_column_text][vc_btn title=”Phone Access” color=”success” size=”lg” align=”center” i_icon_fontawesome=”fas fa-phone” button_block=”true” add_icon=”true” link=”url:tel%3A%2B12532158782%2C%2C7449119581%23%2C%2C%2C%2C*496432655%23|target:_blank”][/vc_column][/vc_row]
URL:https://firstategolfclub.com/event/2025-monthly-board-meeting-copy-copy-copy-copy/
LOCATION:Bill Wright Clubhouse Function Room\, 4101 Beacon Ave S\, Seattle\, WA\, 98108\, United States
ATTACH;FMTTYPE=image/jpeg:https://firstategolfclub.com/wp-content/uploads/2022/12/Icon.jpg
END:VEVENT
BEGIN:VEVENT
DTSTART;TZID=America/Los_Angeles:20250517T080000
DTEND;TZID=America/Los_Angeles:20250517T170000
DTSTAMP:20260420T011918
CREATED:20250515T160331Z
LAST-MODIFIED:20250515T160334Z
UID:5506-1747468800-1747501200@firstategolfclub.com
SUMMARY:PNW Amatuer Championship
DESCRIPTION:[vc_row][vc_column][vc_column_text]Check Back Soon for Tournament Details. \n[/vc_column_text][/vc_column][/vc_row]
URL:https://firstategolfclub.com/event/pnw-amatuer-championship/
LOCATION:Gold Mountain GC\, 7263 W Belfair Valley Rd\, Bremerton\, WA\, 98312\, United States
ATTACH;FMTTYPE=image/png:https://firstategolfclub.com/wp-content/uploads/2024/07/AP-National-e1741464135574.png
ORGANIZER;CN="AP National Golf Club":MAILTO:apnationalgolfclub@gmail.com
END:VEVENT
BEGIN:VEVENT
DTSTART;TZID=America/Los_Angeles:20250517T120000
DTEND;TZID=America/Los_Angeles:20250517T180000
DTSTAMP:20260420T011918
CREATED:20250308T192734Z
LAST-MODIFIED:20250308T193344Z
UID:5199-1747483200-1747504800@firstategolfclub.com
SUMMARY:Club Play 14
DESCRIPTION:Club Play\n\nWest Seattle Golf Course\n5 Tee groups available \nStarting Tee Time:  12:00 pm \n\n\n\n\n\n\nPlaying Notes: \n\nSign-ups are finalized on this page on Thursdays 5:00 pm for Saturday and Sunday Club Plays.  Late RSVP request for weekend play can be made to Sanders Pratt\nPlayers are responsible for greens fee and cart rental at clubhouse.\nArrive 10 minutes prior to first tee time for any last-minute tee assignment adjustments.\nGroup scorer is responsible for recording and forwarding a copy of scorecard to Playing Captain for the day.\nAlternately\, you may RSVP through SignUp Genius .
URL:https://firstategolfclub.com/event/club-play-14-3/
LOCATION:West Seattle Golf Course\, 4470 35th Ave SW\, Seattle\, WA\, 98126\, United States
ATTACH;FMTTYPE=image/png:https://firstategolfclub.com/wp-content/uploads/2023/02/Wseattle-1-e1675811940128.png
ORGANIZER;CN="Hytee Golf Club":MAILTO:sp747ac@yahoo.com
END:VEVENT
BEGIN:VEVENT
DTSTART;TZID=America/Los_Angeles:20250521T130000
DTEND;TZID=America/Los_Angeles:20250521T180000
DTSTAMP:20260420T011918
CREATED:20250422T184653Z
LAST-MODIFIED:20250422T204018Z
UID:5452-1747832400-1747850400@firstategolfclub.com
SUMMARY:Quarterhorse Club Play
DESCRIPTION:Quarterhorse Club Play\n\nAllenmore Golf Course\n6 Tee groups available \nStarting Tee Time:  1:00 pm \n\n\n\n\n\n\nPlaying Notes: \n\nSign-ups are finalized on this page on Mondays at 5:00 pm for Wednesday Quarterhorse Club Plays.  Late RSVP request for the Quarterhorse to Nate Gary\nPlayers are responsible for greens fee and cart rental at clubhouse.\nArrive 10 minutes prior to first tee time for any last-minute tee assignment adjustments.\nGroup scorer is responsible for recording and forwarding a copy of scorecard to Playing Captain for the day.\nAlternately\, you may RSVP through the GroupMe App – Black Hole Golf Group .
URL:https://firstategolfclub.com/event/club-play-14-3-copy/
LOCATION:Allenmore Golf Course\, 2013 S Cedar St\, Tacoma\, WA\, 98405\, United States
ATTACH;FMTTYPE=image/jpeg:https://firstategolfclub.com/wp-content/uploads/2023/02/Allenmore-Logo-e1675984043319.jpg
END:VEVENT
BEGIN:VEVENT
DTSTART;TZID=America/Los_Angeles:20250525T110000
DTEND;TZID=America/Los_Angeles:20250525T180000
DTSTAMP:20260420T011918
CREATED:20250308T193616Z
LAST-MODIFIED:20250308T193921Z
UID:5203-1748170800-1748196000@firstategolfclub.com
SUMMARY:Club Play 15
DESCRIPTION:Club Play\n\nThe Classic Golf Course\n5 Tee groups available \nStarting Tee Time:  12:00 pm \n\n\n\n\n\n\nPlaying Notes: \n\nSign-ups are finalized on this page on Thursdays 5:00 pm for Saturday and Sunday Club Plays.  Late RSVP request for weekend play can be made to Sanders Pratt\nPlayers are responsible for greens fee and cart rental at clubhouse.\nArrive 10 minutes prior to first tee time for any last-minute tee assignment adjustments.\nGroup scorer is responsible for recording and forwarding a copy of scorecard to Playing Captain for the day.\nAlternately\, you may RSVP through SignUp Genius .
URL:https://firstategolfclub.com/event/club-play-15-3/
LOCATION:Classic Golf Course\, 4908 208th St E\, Spanaway\, WA\, 98387\, United States
ATTACH;FMTTYPE=image/png:https://firstategolfclub.com/wp-content/uploads/2023/02/Classic_RGB-300x178-1-e1675985004402.png
ORGANIZER;CN="Hytee Golf Club":MAILTO:sp747ac@yahoo.com
END:VEVENT
BEGIN:VEVENT
DTSTART;TZID=America/Los_Angeles:20250528T130000
DTEND;TZID=America/Los_Angeles:20250528T180000
DTSTAMP:20260420T011918
CREATED:20250422T204113Z
LAST-MODIFIED:20250422T204915Z
UID:5458-1748437200-1748455200@firstategolfclub.com
SUMMARY:Quarterhorse Club Play
DESCRIPTION:Quarterhorse Club Play\n\nRiverbend Golf Course\n6 Tee groups available \nStarting Tee Time:  1:00 pm \n\n\n\n\n\n\nPlaying Notes: \n\nSign-ups are finalized on this page on Mondays at 5:00 pm for Wednesday Quarterhorse Club Plays.  Late RSVP request for the Quarterhorse to Nate Gary\nPlayers are responsible for greens fee and cart rental at clubhouse.\nArrive 10 minutes prior to first tee time for any last-minute tee assignment adjustments.\nGroup scorer is responsible for recording and forwarding a copy of scorecard to Playing Captain for the day.\nAlternately\, you may RSVP through the GroupMe App – Black Hole Golf Group .
URL:https://firstategolfclub.com/event/club-play-14-3-copy-copy/
LOCATION:Riverbend Golf Course\, 2019 W Meeker St\, Kent\, WA\, 98032\, United States
ATTACH;FMTTYPE=image/jpeg:https://firstategolfclub.com/wp-content/uploads/2023/02/Riverbend2-e1676044880564.jpg
END:VEVENT
BEGIN:VEVENT
DTSTART;TZID=America/Los_Angeles:20250530T110000
DTEND;TZID=America/Los_Angeles:20250530T180000
DTSTAMP:20260420T011918
CREATED:20250319T202712Z
LAST-MODIFIED:20250607T014329Z
UID:5352-1748602800-1748628000@firstategolfclub.com
SUMMARY:40th Annual NWGA Shootout
DESCRIPTION:[vc_row][vc_column width=”3/4″][/vc_column][vc_column width=”1/4″][vc_column_text] \nNorthwest Golf Association\n[/vc_column_text][vc_btn title=”Shootout Registration” style=”3d” color=”success” size=”lg” align=”center” i_icon_fontawesome=”far fa-hand-pointer” button_block=”true” add_icon=”true” link=”url:https%3A%2F%2Ffirstategolfclub.com%2Fshootout-registration%2F|title:Shootout%20Registration”][/vc_column][/vc_row][vc_row][vc_column][vc_column_text] \n40th ANNUAL NWGA SHOOTOUT\nBIG RIVER GOLF COURSE\, UMATILLA\, ORE. | MAY 30-June 1\, 2025\nFIELD LIMIT: 80 (MEN\, WOMEN & JUNIORS) ENTRY FEE $200/Golfer\, $90/Social | ENTRY DEADLINE: May 20\, 2025 \n\nEligibility \nEntries are open to NWGA members\, guest (non-indexed golfers)\, and amateur golfers who have an up-to-date USGA Handicap Index issued by the USGA. \n  \nField Limit \nField will be limited to the first 80 entrants. Entries will be accepted according to the time of receipt of entry and entry fee. NWGA reserves the right to modify the field limit to accommodate additional competitors. \nEntries: Form\, Fee and Closing Date \nAll players must have an entry application submitted either by: (1) on the FSGC website (firstategolfclub.com) with a credit card\, or (2) by mail with a completed paper application form and check or credit card authorization form. Entry fee of $190 must be paid by every player. Payment will be processed at the time of entry. A full refund will be issued to players who are placed on a waiting list and do not make the starting field. \nEntry applications\, along with the appropriate fee\, must be completed or received by NWGA by 4:30 p.m. on Wednesday\, May 20\, 2025. Late entry applications may be accepted and used to fill spots; contact Tournament Director after deadline close for waitlist inclusion. \nRefund Policy \nRefunds due to cancellation before the close of entry are subject to a $10 service charge and must be requested by May 27\, 2025. After the close of entry\, no refund will be issued except for cancellation of tournament by NWGA or closure of golf course. \nCarts \nPlayers are encouraged to ride in a golf cart. Cart fees are included in the entry fee; no refunds will be issued for walking competitors. Non-golfing spectators will be accommodated if cart space is available\, RSVP for non-golfer can be made day of competition. \n\n[/vc_column_text][vc_column_text] \nTournament Schedule\n\nFriday\, May 30th\, 2025\n11:30 AM – 1:30 PM      Tee Times: 2-Person Best Ball (Optional) \n4:00 PM                          Hotel Room Check-In Time \n5:00 PM                          NWGA Fish Fry – The Big River GC Event Room \n6:30 PM – 7:30 PM       NWGA Board Meeting – The Big River GC Event Room \n8:00 PM – 10:00 PM    Party Night -The Big River GC Event Room\, & Friday’s Event Payouts \nSaturday May 31st\, 2025\nBig River Golf Course\n8:00 AM – 2:30 PM      Shotgun Start\, Stroke Play Competition \n2:30 PM – 4:30 PM      Putting Contest (Optional) \n3:30 PM – 4:00 PM      Horse Race\, Betting Windows Open \n4:15 PM – 5:30 PM       Start\, Horse-Race Competition \n6:00 PM – 10:00 PM   Banquet Dinner @ GC Event Room\, & Saturday’s Event Payouts \nSunday June 1st\, 2025\n8:00 AM – 1:30 PM   Shotgun Start\, Team Scramble Play \n11:00 AM                     Hotel Room Check-Out Time \n01:45 PM                     Box Lunch to Go\, Distributed \n2:00 PM                      Sunday Event Payout: Scramble Team Winners \n\n[/vc_column_text][vc_column_text] \nHotel Accommodations\n\nNWGA is recommending hotel accommodations at the following hotels; players and guest are encouraged to RSVP as soon as possible: \n\nQuality Inn Umatilla: 705 Willamette St\, Umatilla\, OR 97882\, (541) 922-1101\n\nSingle queen $92.00 plus tax per night\nSingle king $98 plus tax per night\nDouble queen $98 plus tax per night\n\n\nOxford Suites Hermiston: 1050 N 1st St\, Hermiston\, OR 97838\, (541) 564-8000\n\n[/vc_column_text][vc_masonry_media_grid element_width=”6″ grid_id=”vc_gid:1745415297862-ca93d78f-d7e3-7″ include=”3051\,3050″][vc_column_text] \n\nSilent Auction Items\n\nBelow are 5 gift baskets to be auctioned during the Silent Auction.  Auction closes 6 pm on Saturday.[/vc_column_text][vc_masonry_media_grid element_width=”6″ grid_id=”vc_gid:1745415297863-1def76e8-9e69-1″ include=”5472\,5471\,5470\,5469\,5468″][vc_column_text] \n\nTournament Rules\n\nCheck Back Soon for complete Tournament Details. \n[/vc_column_text][/vc_column][/vc_row][vc_row][vc_column][/vc_column][/vc_row][vc_row][vc_column][vc_btn title=”Shootout Registration” style=”3d” color=”success” size=”lg” align=”center” i_icon_fontawesome=”far fa-hand-pointer” button_block=”true” add_icon=”true” link=”url:https%3A%2F%2Ffirstategolfclub.com%2Fshootout-registration%2F|title:Shootout%20Registration”][/vc_column][/vc_row]
URL:https://firstategolfclub.com/event/40th-annual-nwga-shootout-2/
LOCATION:Big River Golf Course\, 709 Willamette St\, Umatilla\, OR\, 987882\, United States
CATEGORIES:Club Play
ATTACH;FMTTYPE=image/png:https://firstategolfclub.com/wp-content/uploads/2024/02/NWGAorig-Logo.png
END:VEVENT
BEGIN:VEVENT
DTSTART;TZID=America/Los_Angeles:20250531T080000
DTEND;TZID=America/Los_Angeles:20250531T180000
DTSTAMP:20260420T011918
CREATED:20250404T031509Z
LAST-MODIFIED:20250607T014125Z
UID:5413-1748678400-1748714400@firstategolfclub.com
SUMMARY:40th Annual NWGA Shootout
DESCRIPTION:[vc_row][vc_column width=”3/4″][/vc_column][vc_column width=”1/4″][vc_column_text] \nNorthwest Golf Association\n[/vc_column_text][vc_btn title=”Shootout Registration” style=”3d” color=”success” size=”lg” align=”center” i_icon_fontawesome=”far fa-hand-pointer” button_block=”true” add_icon=”true” link=”url:https%3A%2F%2Ffirstategolfclub.com%2Fshootout-registration%2F|title:Shootout%20Registration”][/vc_column][/vc_row][vc_row][vc_column][vc_column_text] \n40th ANNUAL NWGA SHOOTOUT\nBIG RIVER GOLF COURSE\, UMATILLA\, ORE. | MAY 30-June 1\, 2025\nFIELD LIMIT: 80 (MEN\, WOMEN & JUNIORS) ENTRY FEE $200/Golfer\, $90/Social | ENTRY DEADLINE: May 20\, 2025 \n\nEligibility \nEntries are open to NWGA members\, guest (non-indexed golfers)\, and amateur golfers who have an up-to-date USGA Handicap Index issued by the USGA. \n  \nField Limit \nField will be limited to the first 80 entrants. Entries will be accepted according to the time of receipt of entry and entry fee. NWGA reserves the right to modify the field limit to accommodate additional competitors. \nEntries: Form\, Fee and Closing Date \nAll players must have an entry application submitted either by: (1) on the FSGC website (firstategolfclub.com) with a credit card\, or (2) by mail with a completed paper application form and check or credit card authorization form. Entry fee of $190 must be paid by every player. Payment will be processed at the time of entry. A full refund will be issued to players who are placed on a waiting list and do not make the starting field. \nEntry applications\, along with the appropriate fee\, must be completed or received by NWGA by 4:30 p.m. on Wednesday\, May 20\, 2025. Late entry applications may be accepted and used to fill spots; contact Tournament Director after deadline close for waitlist inclusion. \nRefund Policy \nRefunds due to cancellation before the close of entry are subject to a $10 service charge and must be requested by May 27\, 2025. After the close of entry\, no refund will be issued except for cancellation of tournament by NWGA or closure of golf course. \nCarts \nPlayers are encouraged to ride in a golf cart. Cart fees are included in the entry fee; no refunds will be issued for walking competitors. Non-golfing spectators will be accommodated if cart space is available\, RSVP for non-golfer can be made day of competition. \n\n[/vc_column_text][vc_column_text] \nTournament Schedule\n\nFriday\, May 30th\, 2025\n11:30 AM – 1:30 PM      Tee Times: 2-Person Best Ball (Optional) \n4:00 PM                          Hotel Room Check-In Time \n5:00 PM                          NWGA Fish Fry – The Big River GC Event Room \n6:30 PM – 7:30 PM       NWGA Board Meeting – The Big River GC Event Room \n8:00 PM – 10:00 PM    Party Night -The Big River GC Event Room\, & Friday’s Event Payouts \nSaturday May 31st\, 2025\nBig River Golf Course\n8:00 AM – 2:30 PM      Shotgun Start\, Stroke Play Competition \n2:30 PM – 4:30 PM      Putting Contest (Optional) \n3:30 PM – 4:00 PM      Horse Race\, Betting Windows Open \n4:15 PM – 5:30 PM       Start\, Horse-Race Competition \n6:00 PM – 10:00 PM   Banquet Dinner @ GC Event Room\, & Saturday’s Event Payouts \nSunday June 1st\, 2025\n8:00 AM – 1:30 PM   Shotgun Start\, Team Scramble Play \n11:00 AM                     Hotel Room Check-Out Time \n01:45 PM                     Box Lunch to Go\, Distributed \n2:00 PM                      Sunday Event Payout: Scramble Team Winners \n\n[/vc_column_text][vc_column_text] \nHotel Accommodations\n\nNWGA is recommending hotel accommodations at the following hotels; players and guest are encouraged to RSVP as soon as possible: \n\nQuality Inn Umatilla: 705 Willamette St\, Umatilla\, OR 97882\, (541) 922-1101\n\nSingle queen $92.00 plus tax per night\nSingle king $98 plus tax per night\nDouble queen $98 plus tax per night\n\n\nOxford Suites Hermiston: 1050 N 1st St\, Hermiston\, OR 97838\, (541) 564-8000\n\n[/vc_column_text][vc_masonry_media_grid element_width=”6″ grid_id=”vc_gid:1745422299122-c22f41f8-81f2-2″ include=”3051\,3050″][vc_column_text] \n\nSilent Auction Items\n\nBelow are 5 gift baskets to be auctioned during the Silent Auction.  Auction closes 6 pm on Saturday.[/vc_column_text][vc_masonry_media_grid element_width=”6″ grid_id=”vc_gid:1745422299142-b9ce2fa6-3c49-10″ include=”5472\,5471\,5470\,5469\,5468″][vc_column_text] \n\nTournament Rules\n\nCheck Back Soon for complete Tournament Details. \n[/vc_column_text][/vc_column][/vc_row][vc_row][vc_column][/vc_column][/vc_row][vc_row][vc_column][vc_btn title=”Shootout Registration” style=”3d” color=”success” size=”lg” align=”center” i_icon_fontawesome=”far fa-hand-pointer” button_block=”true” add_icon=”true” link=”url:https%3A%2F%2Ffirstategolfclub.com%2Fshootout-registration%2F|title:Shootout%20Registration”][/vc_column][/vc_row]
URL:https://firstategolfclub.com/event/40th-annual-nwga-shootout/
LOCATION:Big River Golf Course\, 709 Willamette St\, Umatilla\, OR\, 987882\, United States
CATEGORIES:Club Play
ATTACH;FMTTYPE=image/png:https://firstategolfclub.com/wp-content/uploads/2024/02/NWGAorig-Logo.png
END:VEVENT
END:VCALENDAR