BEGIN:VCALENDAR
VERSION:2.0
PRODID:-//Fir State Golf Club - ECPv6.15.17.1//NONSGML v1.0//EN
CALSCALE:GREGORIAN
METHOD:PUBLISH
X-ORIGINAL-URL:https://firstategolfclub.com
X-WR-CALDESC:Events for Fir State Golf Club
REFRESH-INTERVAL;VALUE=DURATION:PT1H
X-Robots-Tag:noindex
X-PUBLISHED-TTL:PT1H
BEGIN:VTIMEZONE
TZID:America/Los_Angeles
BEGIN:DAYLIGHT
TZOFFSETFROM:-0800
TZOFFSETTO:-0700
TZNAME:PDT
DTSTART:20250309T100000
END:DAYLIGHT
BEGIN:STANDARD
TZOFFSETFROM:-0700
TZOFFSETTO:-0800
TZNAME:PST
DTSTART:20251102T090000
END:STANDARD
BEGIN:DAYLIGHT
TZOFFSETFROM:-0800
TZOFFSETTO:-0700
TZNAME:PDT
DTSTART:20260308T100000
END:DAYLIGHT
BEGIN:STANDARD
TZOFFSETFROM:-0700
TZOFFSETTO:-0800
TZNAME:PST
DTSTART:20261101T090000
END:STANDARD
BEGIN:DAYLIGHT
TZOFFSETFROM:-0800
TZOFFSETTO:-0700
TZNAME:PDT
DTSTART:20270314T100000
END:DAYLIGHT
BEGIN:STANDARD
TZOFFSETFROM:-0700
TZOFFSETTO:-0800
TZNAME:PST
DTSTART:20271107T090000
END:STANDARD
END:VTIMEZONE
BEGIN:VEVENT
DTSTART;TZID=America/Los_Angeles:20260820T080000
DTEND;TZID=America/Los_Angeles:20260823T170000
DTSTAMP:20260419T073730
CREATED:20250308T222855Z
LAST-MODIFIED:20260308T223154Z
UID:5264-1787212800-1787504400@firstategolfclub.com
SUMMARY:Tour Championship
DESCRIPTION:
URL:https://firstategolfclub.com/event/tour-championship/
LOCATION:WA
CATEGORIES:Holiday
END:VEVENT
BEGIN:VEVENT
DTSTART;TZID=America/Los_Angeles:20260821T080000
DTEND;TZID=America/Los_Angeles:20260823T170000
DTSTAMP:20260419T073730
CREATED:20260309T192958Z
LAST-MODIFIED:20260309T192958Z
UID:6173-1787299200-1787504400@firstategolfclub.com
SUMMARY:Leisure Hour Golf Tournament
DESCRIPTION:[vc_row][vc_column][vc_column_text]Check Back Soon for Tournament Details. \n[/vc_column_text][/vc_column][/vc_row]
URL:https://firstategolfclub.com/event/leisure-hour-golf-tournament/
LOCATION:Portland\, Or
CATEGORIES:Club Play
ATTACH;FMTTYPE=image/png:https://firstategolfclub.com/wp-content/uploads/2025/06/LeisureHour-Logo_small.png
END:VEVENT
END:VCALENDAR