BEGIN:VCALENDAR
VERSION:2.0
PRODID:-//Fir State Golf Club - ECPv6.15.17.1//NONSGML v1.0//EN
CALSCALE:GREGORIAN
METHOD:PUBLISH
X-WR-CALNAME:Fir State Golf Club
X-ORIGINAL-URL:https://firstategolfclub.com
X-WR-CALDESC:Events for Fir State Golf Club
REFRESH-INTERVAL;VALUE=DURATION:PT1H
X-Robots-Tag:noindex
X-PUBLISHED-TTL:PT1H
BEGIN:VTIMEZONE
TZID:America/Los_Angeles
BEGIN:DAYLIGHT
TZOFFSETFROM:-0800
TZOFFSETTO:-0700
TZNAME:PDT
DTSTART:20240310T100000
END:DAYLIGHT
BEGIN:STANDARD
TZOFFSETFROM:-0700
TZOFFSETTO:-0800
TZNAME:PST
DTSTART:20241103T090000
END:STANDARD
BEGIN:DAYLIGHT
TZOFFSETFROM:-0800
TZOFFSETTO:-0700
TZNAME:PDT
DTSTART:20250309T100000
END:DAYLIGHT
BEGIN:STANDARD
TZOFFSETFROM:-0700
TZOFFSETTO:-0800
TZNAME:PST
DTSTART:20251102T090000
END:STANDARD
BEGIN:DAYLIGHT
TZOFFSETFROM:-0800
TZOFFSETTO:-0700
TZNAME:PDT
DTSTART:20260308T100000
END:DAYLIGHT
BEGIN:STANDARD
TZOFFSETFROM:-0700
TZOFFSETTO:-0800
TZNAME:PST
DTSTART:20261101T090000
END:STANDARD
END:VTIMEZONE
BEGIN:VEVENT
DTSTART;TZID=America/Los_Angeles:20250919T173000
DTEND;TZID=America/Los_Angeles:20250919T183000
DTSTAMP:20260419T165925
CREATED:20250703T122041Z
LAST-MODIFIED:20250704T035442Z
UID:5885-1758303000-1758306600@firstategolfclub.com
SUMMARY:Beginners Series
DESCRIPTION:[vc_row][vc_column][/vc_column][/vc_row][vc_row][vc_column][vc_column_text] \nFSGC Beginners Series\nHere’s an opportunity to get started learning golf. This series includes two group lessons\, two on course\nintroductory sessions\, and one practice session on the driving range. The goal is to prepare you to\ncompete in the Beginners Flight in the Fir State Club Championship on Sunday\, September 21\, 2025. \nThe lessons will be provided by Gilbert Quitlong\, a Teaching Professional who will get you ready for an\nintroductory golf experience. \nFridays 5:30pm – 6:30 pm\nJuly 25\, 2025 Group Lesson\nAugust 8\, 2025 Group Lesson\nAugust 22\, 2025 On Course Introduction\nSeptember 5\, 2025 On Course Introduction\nSeptember 19\, 2025 Range Practice for Club Championship \n  \nField Limit \nRegistration is required for this event. We have a maximum capacity of 8 people. \nLocation\nBill Wright Complex\n4101 Beacon Ave S\nSeattle\, WA 98108\nBill Wright Golf Complex at Jefferson Park \nSituated in the Beacon Hill neighborhood of Seattle just minutes south of downtown. The course is maintained by the City of Seattle and managed by Premier Golf Centers LLC. The course measures over 5\,900 yards and features vistas of the city’s skyline and Mt. Rainier. Bill Wright Golf Complex also includes a nine hole Executive golf course\, a restaurant with banquet facilities\, a driving range\, Toptracer\, and instructions are available for individual or group lessons for any level of golfer.[/vc_column_text][/vc_column][/vc_row][vc_row][vc_column][/vc_column][/vc_row]
URL:https://firstategolfclub.com/event/beginners-series-copy-copy-copy-copy/
LOCATION:Bill Wright Golf Complex\, 4101 Beacon Ave S\, Seattle\, WA\, 98108\, United States
CATEGORIES:Club Play
ATTACH;FMTTYPE=image/jpeg:https://firstategolfclub.com/wp-content/uploads/2025/06/Bill-Wright-GC-logo-e1749735644387.jpg
END:VEVENT
END:VCALENDAR