BEGIN:VCALENDAR
VERSION:2.0
PRODID:-//Fir State Golf Club - ECPv6.15.17.1//NONSGML v1.0//EN
CALSCALE:GREGORIAN
METHOD:PUBLISH
X-WR-CALNAME:Fir State Golf Club
X-ORIGINAL-URL:https://firstategolfclub.com
X-WR-CALDESC:Events for Fir State Golf Club
REFRESH-INTERVAL;VALUE=DURATION:PT1H
X-Robots-Tag:noindex
X-PUBLISHED-TTL:PT1H
BEGIN:VTIMEZONE
TZID:America/Los_Angeles
BEGIN:DAYLIGHT
TZOFFSETFROM:-0800
TZOFFSETTO:-0700
TZNAME:PDT
DTSTART:20240310T100000
END:DAYLIGHT
BEGIN:STANDARD
TZOFFSETFROM:-0700
TZOFFSETTO:-0800
TZNAME:PST
DTSTART:20241103T090000
END:STANDARD
BEGIN:DAYLIGHT
TZOFFSETFROM:-0800
TZOFFSETTO:-0700
TZNAME:PDT
DTSTART:20250309T100000
END:DAYLIGHT
BEGIN:STANDARD
TZOFFSETFROM:-0700
TZOFFSETTO:-0800
TZNAME:PST
DTSTART:20251102T090000
END:STANDARD
BEGIN:DAYLIGHT
TZOFFSETFROM:-0800
TZOFFSETTO:-0700
TZNAME:PDT
DTSTART:20260308T100000
END:DAYLIGHT
BEGIN:STANDARD
TZOFFSETFROM:-0700
TZOFFSETTO:-0800
TZNAME:PST
DTSTART:20261101T090000
END:STANDARD
END:VTIMEZONE
BEGIN:VEVENT
DTSTART;TZID=America/Los_Angeles:20250827T100000
DTEND;TZID=America/Los_Angeles:20250827T170000
DTSTAMP:20260419T183801
CREATED:20250313T033521Z
LAST-MODIFIED:20250607T012121Z
UID:5314-1756288800-1756314000@firstategolfclub.com
SUMMARY:Club Play
DESCRIPTION:Club Play\n\nLake Wilderness Golf Course\n5 Tee groups available \nStarting Tee Time:  10:00 am \n\n\n\n\n\n\nPlaying Notes: \n\n\n\n\n\n\n\nPlayers are responsible for greens fee and cart rental at clubhouse.\nArrive 10 minutes prior to first tee time for any last-minute tee assignment adjustments.\nGroup scorer is responsible for recording and forwarding a copy of scorecard to Playing Captain for the day.\nAttendee list is updated automatically.
URL:https://firstategolfclub.com/event/club-play-8-3-copy-copy/
LOCATION:Lake Wilderness Golf Course\, 25400 Witte Rd SE\, Maple Valley\, WA\, 98038\, United States
CATEGORIES:Club Play
ATTACH;FMTTYPE=image/png:https://firstategolfclub.com/wp-content/uploads/2023/02/tfss-839f1d00-7d1c-4b7a-bed1-892b964ed583-WA_Lake_Wilderness_Maple_Valley.png
END:VEVENT
END:VCALENDAR