BEGIN:VCALENDAR
VERSION:2.0
PRODID:-//Fir State Golf Club - ECPv6.15.17.1//NONSGML v1.0//EN
CALSCALE:GREGORIAN
METHOD:PUBLISH
X-WR-CALNAME:Fir State Golf Club
X-ORIGINAL-URL:https://firstategolfclub.com
X-WR-CALDESC:Events for Fir State Golf Club
REFRESH-INTERVAL;VALUE=DURATION:PT1H
X-Robots-Tag:noindex
X-PUBLISHED-TTL:PT1H
BEGIN:VTIMEZONE
TZID:America/Los_Angeles
BEGIN:DAYLIGHT
TZOFFSETFROM:-0800
TZOFFSETTO:-0700
TZNAME:PDT
DTSTART:20240310T100000
END:DAYLIGHT
BEGIN:STANDARD
TZOFFSETFROM:-0700
TZOFFSETTO:-0800
TZNAME:PST
DTSTART:20241103T090000
END:STANDARD
BEGIN:DAYLIGHT
TZOFFSETFROM:-0800
TZOFFSETTO:-0700
TZNAME:PDT
DTSTART:20250309T100000
END:DAYLIGHT
BEGIN:STANDARD
TZOFFSETFROM:-0700
TZOFFSETTO:-0800
TZNAME:PST
DTSTART:20251102T090000
END:STANDARD
BEGIN:DAYLIGHT
TZOFFSETFROM:-0800
TZOFFSETTO:-0700
TZNAME:PDT
DTSTART:20260308T100000
END:DAYLIGHT
BEGIN:STANDARD
TZOFFSETFROM:-0700
TZOFFSETTO:-0800
TZNAME:PST
DTSTART:20261101T090000
END:STANDARD
END:VTIMEZONE
BEGIN:VEVENT
DTSTART;TZID=America/Los_Angeles:20250816T080000
DTEND;TZID=America/Los_Angeles:20250816T170000
DTSTAMP:20260419T232725
CREATED:20250109T211305Z
LAST-MODIFIED:20250723T215700Z
UID:4979-1755331200-1755363600@firstategolfclub.com
SUMMARY:Leisure Hour Tournament
DESCRIPTION:[vc_row][vc_column][vc_column_text] \nLeisure Hour Golf Club\nArvoll Rae Scholarship Tournament\n\nHeron Lakes Golf Club (Green Back) – Friday Optional\n3500 N Victory Blvd\, Portland OR\nFriday\, August 15 (Green Back)\nTee Time: 11:00 am\nContact Mark Mackie at Heron Lakes for Friday Play – 503-289-1818 . \n\nSaturday\, August 16\nHeron Lakes Golf Club\n(Great Blue Course)\n(Modified Shotgun Start)\nTee Time: Sat 8:30 am \n\nSunday\, August 17\nHeron Lakes Golf Club\n(Green Back Course)\n(Modified Shotgun Start)\nTee Time: Sun 8:30 am \n\nHotel Information\nCourtyard by Marriott Hotels\n11550 NE Airport Way\, Portland OR\nGroup Rate: $139.00 + room tax\nKing or Double Queen Rooms Available Reserve by: August 1\, to guarantee rate\nby calling 1-503-252-3200 and be sure mention Leisure Hour Golf Club as the booking code. \nComplete registration form and email to: rod657@comcast.net\nor mail to: 3410 Edgewood Drive\, Vancouver\, WA 98665 with funds. \n  \nRegistration Form Download\n[/vc_column_text][/vc_column][/vc_row][vc_row][vc_column][/vc_column][/vc_row]
URL:https://firstategolfclub.com/event/leisure-hour-tournament/
LOCATION:Heron Lakes Golf Club\, 3500 N Victory Blvd\, Portland\, OR\, 97217\, United States
CATEGORIES:Club Play
ATTACH;FMTTYPE=image/png:https://firstategolfclub.com/wp-content/uploads/2025/01/LeisureHour-Logo_upgrade-1-e1743089542627.png
END:VEVENT
END:VCALENDAR