BEGIN:VCALENDAR
VERSION:2.0
PRODID:-//Fir State Golf Club - ECPv6.15.17.1//NONSGML v1.0//EN
CALSCALE:GREGORIAN
METHOD:PUBLISH
X-ORIGINAL-URL:https://firstategolfclub.com
X-WR-CALDESC:Events for Fir State Golf Club
REFRESH-INTERVAL;VALUE=DURATION:PT1H
X-Robots-Tag:noindex
X-PUBLISHED-TTL:PT1H
BEGIN:VTIMEZONE
TZID:America/Los_Angeles
BEGIN:DAYLIGHT
TZOFFSETFROM:-0800
TZOFFSETTO:-0700
TZNAME:PDT
DTSTART:20240310T100000
END:DAYLIGHT
BEGIN:STANDARD
TZOFFSETFROM:-0700
TZOFFSETTO:-0800
TZNAME:PST
DTSTART:20241103T090000
END:STANDARD
BEGIN:DAYLIGHT
TZOFFSETFROM:-0800
TZOFFSETTO:-0700
TZNAME:PDT
DTSTART:20250309T100000
END:DAYLIGHT
BEGIN:STANDARD
TZOFFSETFROM:-0700
TZOFFSETTO:-0800
TZNAME:PST
DTSTART:20251102T090000
END:STANDARD
BEGIN:DAYLIGHT
TZOFFSETFROM:-0800
TZOFFSETTO:-0700
TZNAME:PDT
DTSTART:20260308T100000
END:DAYLIGHT
BEGIN:STANDARD
TZOFFSETFROM:-0700
TZOFFSETTO:-0800
TZNAME:PST
DTSTART:20261101T090000
END:STANDARD
END:VTIMEZONE
BEGIN:VEVENT
DTSTART;TZID=America/Los_Angeles:20250809T103000
DTEND;TZID=America/Los_Angeles:20250809T170000
DTSTAMP:20260419T215241
CREATED:20250109T212034Z
LAST-MODIFIED:20250610T050242Z
UID:4984-1754735400-1754758800@firstategolfclub.com
SUMMARY:Big Boyz Tournament - Day 1
DESCRIPTION:[vc_row][vc_column][vc_column_text] \n15th Annual Big Boyz Tournament\nHosted By: Fir State Golf Club\nWhite Horse Golf Course | August 9\, 2025\, 10:30 am\nPort Ludlow Golf Course | August 10\, 2025\, 11:00 am\nFIELD LIMIT: 36 (MEN\, WOMEN & JUNIORS) ENTRY FEE $200/2-days\, $100/1-day only| ENTRY DEADLINE: August 3\, 2025 \n\n[/vc_column_text][/vc_column][/vc_row][vc_row][vc_column width=”2/5″][vc_column_text] \nRegister Now!\nRegistration & Hole Sponsorship\, see below. \n  \n\n2025 Summer Championship Series \n\nThe Big Boyz  Annual Tournament is organized in Memorial of Dave Mann\, logtime Fir State Golf member and former Seattle Rainiers baseball player.  Dave advocated for a tournament to promote highest form of camaraderie which is found in a stay and play type of tournament.  Fir State is proud to present a hybrid version of his vision this year; two days of play with the option to lodge at the Clearwater Casino Resort on Saturday or if elected players may elect to play a single date with or without lodging.  Be sure select your option at registration checkout. \n[/vc_column_text][/vc_column][vc_column width=”3/5″][/vc_column][/vc_row][vc_row][vc_column][vc_column_text] \n\nSchedule of Events \nSaturday\, August 9 – White Horse Golf Club \n\nTournament Welcome –   (9:30 am) – No-host welcome at White Horse Golf Club;  Tournament Pairings will be finalized at the Welcome and collection of Purse Entry ($30/day)\nTournament Round 1: Net & Gross Competitions (10:30 am) – Tee times to be determined; tournament table opens at 9:00 am with final playing condition announcement at 9:30 am\nBig Boyz Players Dinner – (7:00 pm) Located at the Clearwater Casino\, Tournament Director\, Rudy Horn\, will organize a no-host\, Big Boyz private dining experience.\n\n  \nSunday August\, 10 – Port Ludlow Golf Course \n\nTournament Welcome –   (10:00 am) – No-host welcome at White Horse Golf Club;  Tournament Pairings will be finalized at the Welcome and collection of Purse Entry ($30/day)\nTournament Round 2: Net & Gross Competitions (11:00 am) – Tee times to be determined; tournament table opens at 10:00 am with final playing condition announcement at 11:00 am\n\n[/vc_column_text][vc_masonry_media_grid grid_id=”vc_gid:1749531619916-da3867a2-baed-6″ include=”5658\,5666\,5667\,5665\,5669\,5664″][vc_column_text] \n  \n  \nSuquamish Clearwater Casino Resort[/vc_column_text][vc_column_text] \nHotel Lodging\n\nFSGC has secured a discounted group rate  hotel accommodations at the Suquamish Clearwater Casino Resort; players and guest are encouraged to RSVP prior to July 16\, 2025 deadline\, room quantities are limited: \n\n\n\nSuquamish Clearwater Casino Resort\n\n\n\nGuests can call our reservations department directly at 866-609-8700 and ask for the Big Boyz Group Room Block to receive the\ncontracted rooms and rates. If they prefer to book their reservations online then they can use the following link: https://reserve.clearwatercasino.com/suquamish#groupSignln\nand group code 25672 to make their reservation online. \nSingle King\, Non water view – $269.00/night (pullout sofa bed included)\nDouble Queen\, Non water view -$269.00/night \n[/vc_column_text][vc_masonry_media_grid grid_id=”vc_gid:1749531619917-9cb9e5a1-d532-4″ include=”5663\,5661\,5660\,5686\,5687″][vc_column_text] \n\n\n\nHole Sponsorship\nBecoming a Hole Sponsor of the 15th Big Boyz Tournament is a great way to show your support for our Jr. Golf Program.  Funds raised from all sponsorships are used to provide equipment and accessories in addition to grants for greens fees\, rentals\, participation fees\, etc. for participating youth. Hole sponsorships are available for a $125 minimum donation.  Your sponsorship includes your business logo at one hole. \n\n\n\n\n\nBill Wright Memorial Junior Skills Clinic\nHonoring the Fir State Golf Club legend\, the William A. “Bill” Wright Junior Skills Clinic seeks to provide an introduction to golf for interested youth age 10 and older.  The clinic  provides instruction for beginners on stance\, grip\, and swing; participants receive guidance on driving\, chipping\, and putting. Offered throughout the year\, the Skills Clinic is an introductory component of the Junior Golf Program. \n\n\n\n\n\n\n\n\n\n\n  \n\n\nTournament Rules\n\nEligibility \nEntries are open to amateur golfers who have an up-to-date USGA Handicap Index issued by the USGA and non-indexed golfers. \nAGE: Player’s date of birth is required on all entry forms for competitors using the preferred tee box. Players using preferred tee boxes as Senior competitors must have reached their seventy-five (75) birthday by August 10\, 2025. Players using preferred tee boxes as Junior competitors must have NOT reached their eighteenth birthday by August 10\, 2025. \nField Limit \nField will be limited to the first 36 entrants. Entries will be accepted according to the time of receipt of entry and entry fee. FSGC reserves the right to modify the field limit to accommodate additional competitors. \nEntries: Form\, Fee and Closing Date \nAll players must have an entry application submitted either by: (1) on the FSGC website (firstategolfclub.com) with a credit card\, or (2) by mail with a completed paper application form and check or credit card authorization form. Entry fee of $200 must be paid by every player. Payment will be processed at the time of entry. A full refund will be issued to players who are placed on a waiting list and do not make the starting field. \nEntry applications\, along with the appropriate fee\, must be completed or received by FSGC by 4:30 p.m. on Sunday\, August 3\, 2025. \nLate Entry \nLate Entry applications will be accepted until Friday\, August 8\, 2025. Late Entry begins at Entry closing and continues until the start of tournament; late applications must include entry fee + $25 late entry fee.  Late entry applications may be accepted and used to fill spots; contact Team Captain after deadline close for waitlist inclusion. \nRefund Policy \nRefunds due to cancellation before the close of entry are subject to a $10 service charge. After the close of entry\, no refund will be issued except for cancellation of tournament by FSGC or closure of golf course. \nCarts \nPlayers are encouraged to ride in a golf cart. Cart fees are included in the entry fee; no refunds will be issued for walking competitors. \nTee Box for Port Ludlow Golf Club \n\nAll Divisions play from the White Tees @ 5\,977 yds\nSeniors (70+)\, Ladies\, and Juniors may elect to play from the forward Gold Tees @ 5\,240 yds.\n\nTee Box for White Horse Golf Course \n\nAll Divisions play from the White Tees @ 5\,532 yds\nSeniors (70+)\, Ladies\, and Juniors may elect to play from the forward Gold Tees @ 5\,006 yds.\n\nPlaying Divisions \n\nThere will be only One (1) Playing Division for this event; the field will be adjusted for handicap at the Tee Box from which they play.\n\n  \nHandicapping \nGHIN Requirement: All competitors are required to have a verifiable USGA Index\, Players will receive 100% of their playing handicap for net scoring. The maximum allowable playing handicap per player is 36; a player above this will be reduced to meet this requirement. Players without a verifiable GHIN will be assigned a GHIN = Flight A GHIN Average – 1 . \n  \nTee Pairings \nTee pairings and starting tee times will be posted on Saturday 9:30 am\, check back at that time for your pairing.  Printed Tee Pairings will be available at the Pro Shop\, day of the tournament at 9:30 am. \n  \n\nCompetition\nTournament Competition (Saturday & Sunday) – Gross/Net Competition \n \n  \nTournament competition will be Gross/Net Stroke Competition.  Scores will be tallied and prizes awarded for the Division as follows: \nOpen Division \n\n\n\nDivision Champion (Lower of Low Net or Low Gross)\nLow Gross\nLow Net\nLow Net Runner-up\nLow Net 2nd Runner-up\n\n\n\nSide Competitions \nSide Competitions (cash only) will be organized and managed the day of play for Skins\, Animals\, and Calcutta.  Players desiring to maintain “Amateur” status\, check with Tournament officials before participating. \nStart of Tournament \nTournament Welcome\, review of playing rules\, review of course rules\, and questions from the field meeting at 8:00 am. \nTime of Starting  \nIf the player arrives at his starting point\, ready to play\, within five minutes after his starting time\, in the absence of circumstances which warrant waiving the penalty of disqualification as provided in Rule 5.3a\, the penalty for failure to start on time (including starting early) is loss of two strokes in stroke play. The penalty for lateness or starting early beyond five minutes is disqualification. \nTournament Play Rules Apply \nThe Rules of the United States Golf Association govern play. Complete text of Rules may be found in the current Rules of Golf. Unless otherwise indicated\, the penalty for breach of a Local Rule or Condition: Stroke Play = Two Strokes. \nBalls may be lifted\, cleaned and placed within 1 club length of its original location\, outside of marked Hazards. Balls inside Hazards must be played as they lie. \nBalls within casual water and grounds under repair\, may be lifted cleaned and placed within 1 club length of such area\, but in no instance shall a player improve his lie by moving a ball from a Hazard. \nWhen a player’s ball has not been found or is known or virtually certain to be out of bounds\, the player may proceed as follows rather than proceeding under stroke and distance: \n\nBall Reference Point: The point where the original ball is estimated to have:\n\nCome to rest on the course\, or\nLast crossed the edge of the course boundary to go out of bounds.\n\n\nFairway Reference Point: The point of fairway of the hole being played that is nearest to the ball reference point\, but is not nearer the hole than the ball reference point.\n\nFor purposes of this Local Rule\, “fairway” means any part of the general area cut to fairway height or less. \nIf a ball is estimated to be lost on the course or last crossed the edge of the course boundary short of the fairway\, the fairway reference point may be a grass path or a teeing ground for the hole being played cut to fairway height or less. \nSize of Relief Area Based on Reference Points: Anywhere between: \n\nA line from the hole through the ball reference point (and within two club-lengths to the outside of that line)\, and\nA line from the hole through the fairway reference point (and within two club-lengths to the fairway side of that line).\n\nBut with these limits: \nLimits on Location of Relief Area: \n\nMust be in the general area\, and\nMust not be nearer the hole than the ball reference point.\n\nOnce the player puts a ball in play under this Local Rule: \n\nThe original ball is no longer in play and must not be played\nThis is true even if the ball is found on the course before the end of the three-minute search time (see Rule 6.3b).\n\nBut the player may not use this option to take relief for the original ball when: \n\n That ball is known or virtually certain to have come to rest in a penalty area\, or\n The player has played another ball provisionally under penalty of stroke and distance (see Rule 18.3).\n\nA player may use this option to take relief for a provisional ball that has not been found or is known or virtually certain to be out of bounds. \nPenalty for Playing Ball from a Wrong Place in Breach of Local Rule: General Penalty Under Rule 14.7a \n**In the event that there is confusion at any time. Please proceed under the provisions for “playing 2 balls” keeping both holed out scores and bring the matter to the Tournament Committee at the end of the round. \nTournament Pace – of – Play Requirements \nEach group will be required to finish their round in 4 hours and 30 minutes with the following provisions: \nOUT OF POSITION DEFINITION\nYour group is considered to be OUT OF POSITION when both of the following conditions are present: \nYour group is more than 15 minutes behind the group in front of your group (timed from flag in to flag in)…AND \nYour group is playing slower than an average of 15 minutes per hole. The time is computed from the time the first player in the group teed off on the first hole. The subsequent holes are timed from flagstick in to flagstick in. \nTIMING CRITERIA:\nWhen a group is out of position\, they are subject to timing. Players must play each shot in no more than 40 seconds from the time the shot\, played by your fellow competitor before you\, comes to rest. On the putting green\, timing will begin after a reasonable amount of time is allowed (for the first player to putt) to mark\, lift\, clean and replace the ball\, repair his/her ball mark\, and\, on the line of putt\, repair other ball marks and remove loose impediments. On the teeing ground\, timing will begin after a reasonable amount of time is allowed (for the first player to play) club selection and updating scorecard etc. Undue delay may also occur between strokes and will be considered by the committee in the resolution of any appeals or in timing play or a match\, e.g.\, stopping for the beverage cart\, leaving the course to pickup beverages at the clubhouse or stopping at the turn. \nPENALTY FOR BREACH OF RULE 6-7: \n\n\n\nFirst offense – Warning\nSecond offense – One stroke;\nThird offense – Two strokes.\nFor subsequent offense – Disqualification\n\n\n\n  \nTournament Maximum Double Par Stroke Rule \nPar 3’s Max six (6) Strokes\, Par 4’s Max eight (8) strokes\, Par 5’s Max ten (10) strokes. If your next stroke results in double par on any hole\, please pick up and move to the next hole to tee-off. \n  \nOn Course Discrepancies \nFirst try to resolve the issue within the group\, if the players cannot solve the issue. Play two balls and report discrepancies to a tournament rules committee member immediately after the round. Have fun\, show integrity and respect to your playing partner and everyone on the golf course. \n  \nScore Cards \n\nExchange scorecard with another playing member of your group.\nPlease do not Total Scores\, the computer will perform that task\, only enter scores made on each hole only.\nThe official scorecard requires both signatures to be official.\nCaptains are responsible for turning in scorecards immediately after the round.\n\nTo break all ties\, the Committee will use the hole ranking on the score card for the tournament\, if the hole ranking cannot break the ties\, then divide the prize awarded by the total number of ties.[/vc_column_text][/vc_column][/vc_row][vc_row content_placement=”middle”][vc_column width=”1/2″][vc_btn title=”15th Annual Big Boyz Tournament Registration” style=”3d” color=”success” size=”lg” align=”center” i_icon_fontawesome=”far fa-hand-pointer” button_block=”true” add_icon=”true” link=”url:https%3A%2F%2Ffirstategolfclub.com%2Fbig-boyz-registration-2%2F|title:Annual%20Tournament%20Sponsorship”][/vc_column][vc_column width=”1/2″][vc_btn title=”Tournament Sponsorship” style=”3d” color=”success” size=”lg” align=”center” i_icon_fontawesome=”far fa-hand-pointer” button_block=”true” add_icon=”true” link=”url:https%3A%2F%2Ffirstategolfclub.com%2Ftournament-sponsorship%2F|title:Annual%20Tournament%20Sponsorship”][/vc_column][/vc_row][vc_row][vc_column][/vc_column][/vc_row]
URL:https://firstategolfclub.com/event/big-boyz-tournament/
LOCATION:WA
CATEGORIES:Club Play
ATTACH;FMTTYPE=image/jpeg:https://firstategolfclub.com/wp-content/uploads/2025/01/White-Horse.jpg
END:VEVENT
END:VCALENDAR