BEGIN:VCALENDAR
VERSION:2.0
PRODID:-//Fir State Golf Club - ECPv6.15.17.1//NONSGML v1.0//EN
CALSCALE:GREGORIAN
METHOD:PUBLISH
X-WR-CALNAME:Fir State Golf Club
X-ORIGINAL-URL:https://firstategolfclub.com
X-WR-CALDESC:Events for Fir State Golf Club
REFRESH-INTERVAL;VALUE=DURATION:PT1H
X-Robots-Tag:noindex
X-PUBLISHED-TTL:PT1H
BEGIN:VTIMEZONE
TZID:America/Los_Angeles
BEGIN:DAYLIGHT
TZOFFSETFROM:-0800
TZOFFSETTO:-0700
TZNAME:PDT
DTSTART:20240310T100000
END:DAYLIGHT
BEGIN:STANDARD
TZOFFSETFROM:-0700
TZOFFSETTO:-0800
TZNAME:PST
DTSTART:20241103T090000
END:STANDARD
BEGIN:DAYLIGHT
TZOFFSETFROM:-0800
TZOFFSETTO:-0700
TZNAME:PDT
DTSTART:20250309T100000
END:DAYLIGHT
BEGIN:STANDARD
TZOFFSETFROM:-0700
TZOFFSETTO:-0800
TZNAME:PST
DTSTART:20251102T090000
END:STANDARD
BEGIN:DAYLIGHT
TZOFFSETFROM:-0800
TZOFFSETTO:-0700
TZNAME:PDT
DTSTART:20260308T100000
END:DAYLIGHT
BEGIN:STANDARD
TZOFFSETFROM:-0700
TZOFFSETTO:-0800
TZNAME:PST
DTSTART:20261101T090000
END:STANDARD
END:VTIMEZONE
BEGIN:VEVENT
DTSTART;TZID=America/Los_Angeles:20250619T080000
DTEND;TZID=America/Los_Angeles:20250621T170000
DTSTAMP:20260422T052045
CREATED:20250308T232517Z
LAST-MODIFIED:20250607T012735Z
UID:5276-1750320000-1750525200@firstategolfclub.com
SUMMARY:WSGA 71st Annual Golf Championship
DESCRIPTION:TOURNAMENT PLAY INFORMATION \nENTRY INFORMATION \nAll entry fees will include: Greens fees\, Sweepstakes\, Skins Game\, 50/50\, CTP\, Awards and swag bag. \n\n~ 3-day Golfer will be a total of $575\n~ 3-day Super Senior (70+\, no exceptions) will be a total of $575 per person.\n~ 2-day Super Senior (65+\, no exceptions) will be a total of $350 per person.\n~ Wednesday Skins game will be a total of $120 per person. (Includes Green fees\, Gross/Net Skins and CTP)\n\nTo be eligible for tournament play each applicant must be a member of a WSGA Club at least 30 days prior to Annual Tournament. To qualify for senior status\, individuals must be of age by June 1\, 2025 \nHANDICAP INFORMATION\nHandicap used will be based on GHIN Index. All handicaps will be verified\, and players must compete in the flight in which he or she is flighted.WSGA Handicap Chairperson has the right to re-rate a player based on their previous WSGA Annual Tournament history. If a player is re-rated\, he or she will be notified prior to the start of the tournament. WSGA HandicapCommittee has the right to monitor allcompetitors’ scores during the competition to protect the field andre-flight competitors if necessary. \nTEAM CLUB PLAY \nTo be eligible for team club play you must play in the 54-Hole Stroke Play Tournament and have a minimum of 5players from your club. Once a common course has been established\, 5 players from each club with the lowest net scores from the common course selected will determine the players competing for their Clubs. Teams may not substitute players once the original 5 players have been selected. Thursday\, Friday and Saturday’s combined scores will determine the winner of Team Club Play. \nFLIGHTS \nMen and women will be flighted based on handicap (entries permitting). Senior flights for men and women 65 and older\,will be flighted. based on handicap (entries permitting). \nACTIVITY SCHEDULE \nWednesday\, June 18\, 2024 —12:30 pm Skins Game \nJune 19 – 21\, 2025. — 7:45 am Shotgun Start \nNote: Bus will be provided June 19th. Cost will be $40 pp round trip. 50 riders required \nHOTEL INFORMATION \nMontgomery Marriott Prattville Hotel & Conference Center at Capitol Hill \n2500 Legends Circle Prattville\, AL 36066 \n334-290-1235 \n2 Queen Beds OR King Bed Per Night Room Rate: $185 (+applicable taxes)
URL:https://firstategolfclub.com/event/wsga-71st-annual-golf-championship/
LOCATION:Robert Trent Jones – Capitol Hill\, 2600 Constitution Ave\, Prattville\, AL\, 36066\, United States
CATEGORIES:Club Play
ATTACH;FMTTYPE=image/jpeg:https://firstategolfclub.com/wp-content/uploads/2022/12/OIP.jpg
ORGANIZER;CN="Western States Golf Association":MAILTO:info@westernstatesgolf.com
END:VEVENT
BEGIN:VEVENT
DTSTART;TZID=America/Los_Angeles:20250621T080000
DTEND;TZID=America/Los_Angeles:20250621T170000
DTSTAMP:20260422T052045
CREATED:20250612T105938Z
LAST-MODIFIED:20250612T120342Z
UID:5736-1750492800-1750525200@firstategolfclub.com
SUMMARY:PSGC 48th Annual Juneteenth Open Golf Tournament
DESCRIPTION:[vc_row][vc_column][vc_column_text] \nPine State Golf Club 48th Annual Juneteenth Open Golf Tournament\n\n\n[/vc_column_text][/vc_column][/vc_row][vc_row][vc_column][vc_column_text] \n\n\n\n\nSave the Date\n\n\n\n\n\nPine State Golf Club 48th Annual Juneteenth Open Golf Tournament\n \n\nDate: Saturday June 21ST 2025 \nPlace: Indian Canyon Golf Course \n           1001 S.  Assembly Rd\, Spokane WA. 99224 \nTee Time: 1300 (1pm)  \n\n\n\n\n\n\n\n\n\n\n\n\n\n\nSchedule of Events\n\n\n\n\n\n  \n\n\n\n\n\n\n\n\n\n\nFri June 20\, 2025\nHospitality Night             6:00 pm – 9:00 pm \n\n\n\nMeet & Greet\nCheck-In\nGroup Assignment\nFinger foods provided by PSGC\n\n\n\n\n\n\n\n\n\n\n\n\n\n\n\n\n\n\n\n\n\n\n\n\n\n\n\nSat June 21\, 2025\nJuneteenth Open         1st tee time – 1pm \nIndian Canyon Golf Course \nStroke Play ($185 per player) \n\n\n\n\n\n\n\nTournament fee includes green fees\, 1/2 cart\, and banquet\nNon Player($) banquet\nSkins Game $ (optional)\n\n\n\n\n\n\n\n\n\n\n\n\n\n\n\n\n\n\n\n\n\n\nSat June 21\, 2025\n\n\n\n\nAward Ceremony/Banquet            6:00 pm – 9:00 pm\nHampton Inn Hotel \n\n\n\n\n\nBanquet provided by Hampton Inn\n Raffle Drawings\n\n\n\n\n\n\n\n\n\n\n\n\n\n\n\n\n\n\n\n\n\n\n\n\n\n\nSun June 22\, 2025\n\n\n\n\nJuneteenth Hangover           1st Tee Time 9:30 am\nWandermere Golf Course\, Spokane\, WA \n\n\n\n\n\n4-Man Scramble ($110 per player)\n\n\n\n\n\n\n\n\n\n\n\n\n\n\n\n\n\n\n\n\n\n\n\n\n\n\n[/vc_column_text][/vc_column][/vc_row][vc_row content_placement=”middle”][vc_column width=”1/3″][/vc_column][vc_column width=”1/3″]Tournament Registration[/vc_column][vc_column width=”1/3″][/vc_column][/vc_row][vc_row][vc_column][vc_column_text] \n\n\n\n\nJuneteenth Host Hotel\n\n\n\n\n\n  \n\n\n\n\n\n\n\n\n\n\n\n\n\n\n\n\n\n\n\n\n\n[/vc_column_text][/vc_column][/vc_row][vc_row][vc_column width=”1/3″][vc_column_text] \n\n\n\n\n\n\n\n\nThe Hampton Inn\n2010 S Assembly Rd Spokane\, WA 99224 \n\n\nPH: 509.747.1100 f: 509.747.8722 \nwww.hamptoninnspokane.com \n\n\n\n\n\n\n\n\n\n\n\n\n\n\n\n\n\n\n\n\n\n\n\n\n\n\n[/vc_column_text][/vc_column][vc_column width=”1/3″][vc_column_text] \n\n\n\n\n\n\n\n\nShuttle Service\n\n\n\n\n\n\n\nFree hot breakfast\nProvided to/from Airport\nThere will be designated shuttle times to/from Golf Course\n\n  \n\n\n\n\n\n\n\n\n\n\n\n\n\n\n\n\n\n\n\n\n\n\n\n\n\n\n[/vc_column_text][/vc_column][vc_column width=”1/3″][vc_column_text] \n\n\n\n\n\n\n\n\nReservation/Room Details\n\n\n\n\n\n\n\nCredit card will need to be placed on your room reservation\nMUST reserve before June 6\, 2025 to use PSGC discount code\nRooms $185+tax per night\n\n  \n\n\n\n\n\n\n\n\n\n\n\n\n\n\n\n\n\n\n\n\n\n[/vc_column_text][/vc_column][/vc_row]
URL:https://firstategolfclub.com/event/psgc-48th-annual-juneteenth-open-golf-tournament/
LOCATION:Indian Canyon Golf Course\, 1001 S. Assembley Rd\, Spokane\, WA\, 99224\, United States
CATEGORIES:Club Play
ATTACH;FMTTYPE=image/png:https://firstategolfclub.com/wp-content/uploads/2023/05/indian-canyon-e1684802599511.png
ORGANIZER;CN="Pine State Golf Club":MAILTO:pinestategolf@gmail.com
END:VEVENT
BEGIN:VEVENT
DTSTART;TZID=America/Los_Angeles:20250621T090000
DTEND;TZID=America/Los_Angeles:20250621T170000
DTSTAMP:20260422T052046
CREATED:20250308T202910Z
LAST-MODIFIED:20250617T133009Z
UID:5217-1750496400-1750525200@firstategolfclub.com
SUMMARY:Club Play 18
DESCRIPTION:Club Play\n\nBellevue Golf Course\n5 Tee groups available \nStarting Tee Time:  11:00 am \n\n\n\n\n\n\nPlaying Notes: \n\nSign-ups are finalized on this page on Thursdays 5:00 pm for Saturday and Sunday Club Plays.  Late RSVP request for weekend play can be made to Sanders Pratt\nPlayers are responsible for greens fee and cart rental at clubhouse.\nArrive 10 minutes prior to first tee time for any last-minute tee assignment adjustments.\nGroup scorer is responsible for recording and forwarding a copy of scorecard to Playing Captain for the day.\nAlternately\, you may RSVP through SignUp Genius .
URL:https://firstategolfclub.com/event/club-play-18-3/
LOCATION:Bellevue Golf Course\, 5500 140th Ave NE\, Bellevue\, WA\, 98005\, United States
CATEGORIES:Club Play
ATTACH;FMTTYPE=image/jpeg:https://firstategolfclub.com/wp-content/uploads/2023/02/BellevueGC-e1675985832936.jpg
ORGANIZER;CN="Hytee Golf Club":MAILTO:sp747ac@yahoo.com
END:VEVENT
END:VCALENDAR