BEGIN:VCALENDAR
VERSION:2.0
PRODID:-//Fir State Golf Club - ECPv6.15.17.1//NONSGML v1.0//EN
CALSCALE:GREGORIAN
METHOD:PUBLISH
X-ORIGINAL-URL:https://firstategolfclub.com
X-WR-CALDESC:Events for Fir State Golf Club
REFRESH-INTERVAL;VALUE=DURATION:PT1H
X-Robots-Tag:noindex
X-PUBLISHED-TTL:PT1H
BEGIN:VTIMEZONE
TZID:America/Los_Angeles
BEGIN:DAYLIGHT
TZOFFSETFROM:-0800
TZOFFSETTO:-0700
TZNAME:PDT
DTSTART:20240310T100000
END:DAYLIGHT
BEGIN:STANDARD
TZOFFSETFROM:-0700
TZOFFSETTO:-0800
TZNAME:PST
DTSTART:20241103T090000
END:STANDARD
BEGIN:DAYLIGHT
TZOFFSETFROM:-0800
TZOFFSETTO:-0700
TZNAME:PDT
DTSTART:20250309T100000
END:DAYLIGHT
BEGIN:STANDARD
TZOFFSETFROM:-0700
TZOFFSETTO:-0800
TZNAME:PST
DTSTART:20251102T090000
END:STANDARD
BEGIN:DAYLIGHT
TZOFFSETFROM:-0800
TZOFFSETTO:-0700
TZNAME:PDT
DTSTART:20260308T100000
END:DAYLIGHT
BEGIN:STANDARD
TZOFFSETFROM:-0700
TZOFFSETTO:-0800
TZNAME:PST
DTSTART:20261101T090000
END:STANDARD
END:VTIMEZONE
BEGIN:VEVENT
DTSTART;TZID=America/Los_Angeles:20250619T080000
DTEND;TZID=America/Los_Angeles:20250621T170000
DTSTAMP:20260419T233614
CREATED:20250308T232517Z
LAST-MODIFIED:20250607T012735Z
UID:5276-1750320000-1750525200@firstategolfclub.com
SUMMARY:WSGA 71st Annual Golf Championship
DESCRIPTION:TOURNAMENT PLAY INFORMATION \nENTRY INFORMATION \nAll entry fees will include: Greens fees\, Sweepstakes\, Skins Game\, 50/50\, CTP\, Awards and swag bag. \n\n~ 3-day Golfer will be a total of $575\n~ 3-day Super Senior (70+\, no exceptions) will be a total of $575 per person.\n~ 2-day Super Senior (65+\, no exceptions) will be a total of $350 per person.\n~ Wednesday Skins game will be a total of $120 per person. (Includes Green fees\, Gross/Net Skins and CTP)\n\nTo be eligible for tournament play each applicant must be a member of a WSGA Club at least 30 days prior to Annual Tournament. To qualify for senior status\, individuals must be of age by June 1\, 2025 \nHANDICAP INFORMATION\nHandicap used will be based on GHIN Index. All handicaps will be verified\, and players must compete in the flight in which he or she is flighted.WSGA Handicap Chairperson has the right to re-rate a player based on their previous WSGA Annual Tournament history. If a player is re-rated\, he or she will be notified prior to the start of the tournament. WSGA HandicapCommittee has the right to monitor allcompetitors’ scores during the competition to protect the field andre-flight competitors if necessary. \nTEAM CLUB PLAY \nTo be eligible for team club play you must play in the 54-Hole Stroke Play Tournament and have a minimum of 5players from your club. Once a common course has been established\, 5 players from each club with the lowest net scores from the common course selected will determine the players competing for their Clubs. Teams may not substitute players once the original 5 players have been selected. Thursday\, Friday and Saturday’s combined scores will determine the winner of Team Club Play. \nFLIGHTS \nMen and women will be flighted based on handicap (entries permitting). Senior flights for men and women 65 and older\,will be flighted. based on handicap (entries permitting). \nACTIVITY SCHEDULE \nWednesday\, June 18\, 2024 —12:30 pm Skins Game \nJune 19 – 21\, 2025. — 7:45 am Shotgun Start \nNote: Bus will be provided June 19th. Cost will be $40 pp round trip. 50 riders required \nHOTEL INFORMATION \nMontgomery Marriott Prattville Hotel & Conference Center at Capitol Hill \n2500 Legends Circle Prattville\, AL 36066 \n334-290-1235 \n2 Queen Beds OR King Bed Per Night Room Rate: $185 (+applicable taxes)
URL:https://firstategolfclub.com/event/wsga-71st-annual-golf-championship/
LOCATION:Robert Trent Jones – Capitol Hill\, 2600 Constitution Ave\, Prattville\, AL\, 36066\, United States
CATEGORIES:Club Play
ATTACH;FMTTYPE=image/jpeg:https://firstategolfclub.com/wp-content/uploads/2022/12/OIP.jpg
ORGANIZER;CN="Western States Golf Association":MAILTO:info@westernstatesgolf.com
END:VEVENT
END:VCALENDAR