BEGIN:VCALENDAR
VERSION:2.0
PRODID:-//Fir State Golf Club - ECPv6.15.17.1//NONSGML v1.0//EN
CALSCALE:GREGORIAN
METHOD:PUBLISH
X-ORIGINAL-URL:https://firstategolfclub.com
X-WR-CALDESC:Events for Fir State Golf Club
REFRESH-INTERVAL;VALUE=DURATION:PT1H
X-Robots-Tag:noindex
X-PUBLISHED-TTL:PT1H
BEGIN:VTIMEZONE
TZID:America/Los_Angeles
BEGIN:DAYLIGHT
TZOFFSETFROM:-0800
TZOFFSETTO:-0700
TZNAME:PDT
DTSTART:20240310T100000
END:DAYLIGHT
BEGIN:STANDARD
TZOFFSETFROM:-0700
TZOFFSETTO:-0800
TZNAME:PST
DTSTART:20241103T090000
END:STANDARD
BEGIN:DAYLIGHT
TZOFFSETFROM:-0800
TZOFFSETTO:-0700
TZNAME:PDT
DTSTART:20250309T100000
END:DAYLIGHT
BEGIN:STANDARD
TZOFFSETFROM:-0700
TZOFFSETTO:-0800
TZNAME:PST
DTSTART:20251102T090000
END:STANDARD
BEGIN:DAYLIGHT
TZOFFSETFROM:-0800
TZOFFSETTO:-0700
TZNAME:PDT
DTSTART:20260308T100000
END:DAYLIGHT
BEGIN:STANDARD
TZOFFSETFROM:-0700
TZOFFSETTO:-0800
TZNAME:PST
DTSTART:20261101T090000
END:STANDARD
END:VTIMEZONE
BEGIN:VEVENT
DTSTART;TZID=America/Los_Angeles:20250615T100000
DTEND;TZID=America/Los_Angeles:20250615T180000
DTSTAMP:20260419T233552
CREATED:20250308T200446Z
LAST-MODIFIED:20250613T000736Z
UID:5211-1749981600-1750010400@firstategolfclub.com
SUMMARY:Club Play 17
DESCRIPTION:Club Play\n\nAllenmore Golf Course\nEVENT CANCELLED \nStarting Tee Time:  10:00 am \n\n\n\n\n\n\nPlaying Notes: \n\nSign-ups are finalized on this page on Thursdays 5:00 pm for Saturday and Sunday Club Plays.  Late RSVP request for weekend play can be made to Sanders Pratt\nPlayers are responsible for greens fee and cart rental at clubhouse.\nArrive 10 minutes prior to first tee time for any last-minute tee assignment adjustments.\nGroup scorer is responsible for recording and forwarding a copy of scorecard to Playing Captain for the day.\nAlternately\, you may RSVP through SignUp Genius .
URL:https://firstategolfclub.com/event/club-play-15-3-copy/
LOCATION:Allenmore Golf Course\, 2013 S Cedar St\, Tacoma\, WA\, 98405\, United States
CATEGORIES:Club Play
ATTACH;FMTTYPE=image/jpeg:https://firstategolfclub.com/wp-content/uploads/2023/02/Allenmore-Logo-e1675984043319.jpg
ORGANIZER;CN="Hytee Golf Club":MAILTO:sp747ac@yahoo.com
END:VEVENT
END:VCALENDAR