BEGIN:VCALENDAR
VERSION:2.0
PRODID:-//Fir State Golf Club - ECPv6.15.17.1//NONSGML v1.0//EN
CALSCALE:GREGORIAN
METHOD:PUBLISH
X-ORIGINAL-URL:https://firstategolfclub.com
X-WR-CALDESC:Events for Fir State Golf Club
REFRESH-INTERVAL;VALUE=DURATION:PT1H
X-Robots-Tag:noindex
X-PUBLISHED-TTL:PT1H
BEGIN:VTIMEZONE
TZID:America/Los_Angeles
BEGIN:DAYLIGHT
TZOFFSETFROM:-0800
TZOFFSETTO:-0700
TZNAME:PDT
DTSTART:20240310T100000
END:DAYLIGHT
BEGIN:STANDARD
TZOFFSETFROM:-0700
TZOFFSETTO:-0800
TZNAME:PST
DTSTART:20241103T090000
END:STANDARD
BEGIN:DAYLIGHT
TZOFFSETFROM:-0800
TZOFFSETTO:-0700
TZNAME:PDT
DTSTART:20250309T100000
END:DAYLIGHT
BEGIN:STANDARD
TZOFFSETFROM:-0700
TZOFFSETTO:-0800
TZNAME:PST
DTSTART:20251102T090000
END:STANDARD
BEGIN:DAYLIGHT
TZOFFSETFROM:-0800
TZOFFSETTO:-0700
TZNAME:PDT
DTSTART:20260308T100000
END:DAYLIGHT
BEGIN:STANDARD
TZOFFSETFROM:-0700
TZOFFSETTO:-0800
TZNAME:PST
DTSTART:20261101T090000
END:STANDARD
END:VTIMEZONE
BEGIN:VEVENT
DTSTART;TZID=America/Los_Angeles:20250611T110000
DTEND;TZID=America/Los_Angeles:20250611T170000
DTSTAMP:20260419T233545
CREATED:20250308T194235Z
LAST-MODIFIED:20250610T141056Z
UID:5207-1749639600-1749661200@firstategolfclub.com
SUMMARY:Club Play 16
DESCRIPTION:Club Play\n\nBellevue Golf Course\n5 Tee groups available \nStarting Tee Time:  11:00 am \n\n\n\n\n\n\nPlaying Notes: \n\n\n\n\n\n\n\nPlayers are responsible for greens fee and cart rental at clubhouse.\nArrive 10 minutes prior to first tee time for any last-minute tee assignment adjustments.\nGroup scorer is responsible for recording and forwarding a copy of scorecard to Playing Captain for the day.\nAttendee list is updated automatically.
URL:https://firstategolfclub.com/event/club-play-16-3/
LOCATION:Bellevue Golf Course\, 5500 140th Ave NE\, Bellevue\, WA\, 98005\, United States
CATEGORIES:Club Play
ATTACH;FMTTYPE=image/jpeg:https://firstategolfclub.com/wp-content/uploads/2023/02/BellevueGC-e1675985832936.jpg
END:VEVENT
BEGIN:VEVENT
DTSTART;TZID=America/Los_Angeles:20250611T190000
DTEND;TZID=America/Los_Angeles:20250611T203000
DTSTAMP:20260419T233545
CREATED:20250109T203607Z
LAST-MODIFIED:20250607T013537Z
UID:4955-1749668400-1749673800@firstategolfclub.com
SUMMARY:2025 Monthly Board Meeting
DESCRIPTION:[vc_row][vc_column][/vc_column][/vc_row][vc_row][vc_column width=”2/3″][vc_column_text] \nBoard of Directors Meeting\n\nBill Wright Complex Function Room\nMonthly meeting of the FSGC Board of Directors \n*All new agenda items due 7 days in advance. \nMeeting inquiries contact Club Secretary[/vc_column_text][/vc_column][vc_column width=”1/3″][vc_column_text] \nMeeting Connection\n\nConnect via Zoom:\n[/vc_column_text][vc_btn title=”ZOOM Meeting” color=”primary” size=”lg” align=”center” i_icon_fontawesome=”fas fa-calendar-alt” button_block=”true” add_icon=”true” link=”url:https%3A%2F%2Fus06web.zoom.us%2Fj%2F7449119581%3Fpwd%3DYndYclg2Sm9EeThRcExlVXg0cDcrQT09%26omn%3D88354992596|target:_blank”][vc_column_text] \n\n\nConnect via Phone:\n[/vc_column_text][vc_btn title=”Phone Access” color=”success” size=”lg” align=”center” i_icon_fontawesome=”fas fa-phone” button_block=”true” add_icon=”true” link=”url:tel%3A%2B12532158782%2C%2C7449119581%23%2C%2C%2C%2C*496432655%23|target:_blank”][/vc_column][/vc_row]
URL:https://firstategolfclub.com/event/2025-monthly-board-meeting-copy-copy-copy-copy-copy/
LOCATION:Bill Wright Clubhouse Function Room\, 4101 Beacon Ave S\, Seattle\, WA\, 98108\, United States
CATEGORIES:Meeting
ATTACH;FMTTYPE=image/jpeg:https://firstategolfclub.com/wp-content/uploads/2022/12/Icon.jpg
END:VEVENT
END:VCALENDAR